BEGIN:VCALENDAR
VERSION:2.0
PRODID:-//The Cherry Rock Lounge - ECPv6.15.18//NONSGML v1.0//EN
CALSCALE:GREGORIAN
METHOD:PUBLISH
X-WR-CALNAME:The Cherry Rock Lounge
X-ORIGINAL-URL:https://thecherry.ca
X-WR-CALDESC:Events for The Cherry Rock Lounge
REFRESH-INTERVAL;VALUE=DURATION:PT1H
X-Robots-Tag:noindex
X-PUBLISHED-TTL:PT1H
BEGIN:VTIMEZONE
TZID:UTC
BEGIN:STANDARD
TZOFFSETFROM:+0000
TZOFFSETTO:+0000
TZNAME:UTC
DTSTART:20250101T000000
END:STANDARD
END:VTIMEZONE
BEGIN:VEVENT
DTSTART;TZID=UTC:20260320T200000
DTEND;TZID=UTC:20260321T020000
DTSTAMP:20260422T230034
CREATED:20260212T213054Z
LAST-MODIFIED:20260212T213054Z
UID:447-1774036800-1774058400@thecherry.ca
SUMMARY:Guerrilla Radio - Tribute to Rage Against the Machine
DESCRIPTION:🤟🤟\nFor all you RATM fans\, this one’s for you.\nGet ready Windsor\, as Guerrilla Radio returns to play tribute to a band that opposed political oppression and a tried to be a voice for the millions that couldn’t be heard.\nRage Against the Machine\nCome one\, come all\, raise you’re middle finger and get ready to yell at the top of your lungs\, Fuck you\, I won’t do as you tell me!\nDoors at 8pm\n19+ \n$10 cover\n$8.50 well doubles\n$5.00 Shots of 1800 Tequila\n🤟🤟
URL:https://thecherry.ca/event/guerrilla-radio-tribute-to-rage-against-the-machine/
LOCATION:The Cherry Rock Lounge\, Windsor\, ON\, Canada\, Ontario\, Windsor\, Windsor\, N8M 1A2\, Canada
ATTACH;FMTTYPE=image/jpeg:https://thecherry.ca/wp-content/uploads/2026/02/Guerrilla-Radio.jpg
ORGANIZER;CN="The Cherry Rock Lounge":MAILTO:thecherryrocklounge@gmail.com
END:VEVENT
END:VCALENDAR