BEGIN:VCALENDAR
VERSION:2.0
PRODID:-//The Cherry Rock Lounge - ECPv6.15.18//NONSGML v1.0//EN
CALSCALE:GREGORIAN
METHOD:PUBLISH
X-WR-CALNAME:The Cherry Rock Lounge
X-ORIGINAL-URL:https://thecherry.ca
X-WR-CALDESC:Events for The Cherry Rock Lounge
REFRESH-INTERVAL;VALUE=DURATION:PT1H
X-Robots-Tag:noindex
X-PUBLISHED-TTL:PT1H
BEGIN:VTIMEZONE
TZID:UTC
BEGIN:STANDARD
TZOFFSETFROM:+0000
TZOFFSETTO:+0000
TZNAME:UTC
DTSTART:20250101T000000
END:STANDARD
END:VTIMEZONE
BEGIN:VEVENT
DTSTART;TZID=UTC:20260227T210000
DTEND;TZID=UTC:20260228T020000
DTSTAMP:20260423T004655
CREATED:20260212T212701Z
LAST-MODIFIED:20260212T212701Z
UID:443-1772226000-1772244000@thecherry.ca
SUMMARY:Cymbolism
DESCRIPTION:Windsor’s Cymbolism are making their debut at The Cherry\, playing original music and covers of some of your favorite classics.\n$8.50 Well double\n$5.00 Shot of 1800 Tequila\n19+\nDoors at 9:00pm\n$10 cover
URL:https://thecherry.ca/event/cymbolism/
LOCATION:The Cherry Rock Lounge\, Windsor\, ON\, Canada\, Ontario\, Windsor\, Windsor\, N8M 1A2\, Canada
ATTACH;FMTTYPE=image/jpeg:https://thecherry.ca/wp-content/uploads/2026/02/Cymbolism.jpg
ORGANIZER;CN="The Cherry Rock Lounge":MAILTO:thecherryrocklounge@gmail.com
END:VEVENT
END:VCALENDAR